BEGIN:VCALENDAR
VERSION:2.0
PRODID:-//GARDA - ECPv6.15.20//NONSGML v1.0//EN
CALSCALE:GREGORIAN
METHOD:PUBLISH
X-ORIGINAL-URL:https://gardalo.it
X-WR-CALDESC:Eventi per GARDA
REFRESH-INTERVAL;VALUE=DURATION:PT1H
X-Robots-Tag:noindex
X-PUBLISHED-TTL:PT1H
BEGIN:VTIMEZONE
TZID:Europe/Rome
BEGIN:DAYLIGHT
TZOFFSETFROM:+0100
TZOFFSETTO:+0200
TZNAME:CEST
DTSTART:20210328T010000
END:DAYLIGHT
BEGIN:STANDARD
TZOFFSETFROM:+0200
TZOFFSETTO:+0100
TZNAME:CET
DTSTART:20211031T010000
END:STANDARD
BEGIN:DAYLIGHT
TZOFFSETFROM:+0100
TZOFFSETTO:+0200
TZNAME:CEST
DTSTART:20220327T010000
END:DAYLIGHT
BEGIN:STANDARD
TZOFFSETFROM:+0200
TZOFFSETTO:+0100
TZNAME:CET
DTSTART:20221030T010000
END:STANDARD
BEGIN:DAYLIGHT
TZOFFSETFROM:+0100
TZOFFSETTO:+0200
TZNAME:CEST
DTSTART:20230326T010000
END:DAYLIGHT
BEGIN:STANDARD
TZOFFSETFROM:+0200
TZOFFSETTO:+0100
TZNAME:CET
DTSTART:20231029T010000
END:STANDARD
END:VTIMEZONE
BEGIN:VEVENT
DTSTART;TZID=Europe/Rome:20220626T193000
DTEND;TZID=Europe/Rome:20220626T193000
DTSTAMP:20260420T214933
CREATED:20220523T081908Z
LAST-MODIFIED:20220603T103541Z
UID:742-1656271800-1656271800@gardalo.it
SUMMARY:Lezioni di sogni
DESCRIPTION:Ingresso gratuito con prenotazione obbligatoria \n\n\n \n  \nDOMENICA 26 GIUGNO 2022\, ORE 19.30-21.00 \nLaghetto delle danze \nLezioni di sogni con Paolo Crepet
URL:https://gardalo.it/evento/lezioni-di-sogni/
LOCATION:Laghetto delle Danze\, Parco del Vittoriale\, Via del Vittoriale\, 12\, Gardone Riviera\, 25083\, Italia
ORGANIZER;CN="GardaLo!":MAILTO:info@gardalo.it
END:VEVENT
BEGIN:VEVENT
DTSTART;TZID=Europe/Rome:20220626T153000
DTEND;TZID=Europe/Rome:20220626T163000
DTSTAMP:20260420T214933
CREATED:20220523T082147Z
LAST-MODIFIED:20220601T064146Z
UID:739-1656257400-1656261000@gardalo.it
SUMMARY:Città
DESCRIPTION:26 Giugno ore 15.30 \n\n\n\nIngresso gratuito con prenotazione obbligatoria \n\n\n\n\n\n\n\n\n\nLa pandemia\, lo smart working e nuove forme di socialità “a distanza” ci costringono a ripensare il rapporto fra la città e i suoi abitanti e tra gli spazi pubblici e privati\, così come le stesse modalità del lavoro e della mobilità. Architetti\, urbanisti e scrittori riflettono su come progettare e abitare le città del domani.
URL:https://gardalo.it/evento/citta/
LOCATION:Il Vittoriale degli italiani\, Auditorium\, Via del Vittoriale\, 12\, Gardone Riviera\, Italia
CATEGORIES:Letteratura
ORGANIZER;CN="GardaLo!":MAILTO:info@gardalo.it
END:VEVENT
BEGIN:VEVENT
DTSTART;TZID=Europe/Rome:20220626T140000
DTEND;TZID=Europe/Rome:20220626T150000
DTSTAMP:20260420T214933
CREATED:20220523T092703Z
LAST-MODIFIED:20220624T122205Z
UID:843-1656252000-1656255600@gardalo.it
SUMMARY:Visita per bambini alla Prioria (dai 6 ai 10 anni)
DESCRIPTION:26 Giugno \n\n\n\n\n\n\n\nDomenica 26 giugno 2022 |  Visite alla Prioria per bambini \n\n\n\n6 anni  |  biglietto gratuito  \n\n\n\ndai 7 ai 10 anni |  biglietto ridotto € 14\,00 \n\n\n\n** Le visite alla Prioria sono esclusive per bambini di età compresa tra i 6 e i 10 anni. Gli adulti accompagnatori sono invitati ad attendere i bambini alla fine della visita in Prioria\, presso la Piazzetta Dalmata.  \n\n\n\n\n\n\n\n\n\n 
URL:https://gardalo.it/evento/speciale-visita-alla-prioria-dedicata-ai-bambini-4/
LOCATION:Il Vittoriale degli Italiani\, Prioria\, Via del Vittoriale\,12\, Gardone Riviera\, 25083\, Italia
ORGANIZER;CN="GardaLo!":MAILTO:info@gardalo.it
END:VEVENT
BEGIN:VEVENT
DTSTART;TZID=Europe/Rome:20220626T120000
DTEND;TZID=Europe/Rome:20220626T130000
DTSTAMP:20260420T214933
CREATED:20220523T075903Z
LAST-MODIFIED:20220601T064015Z
UID:720-1656244800-1656248400@gardalo.it
SUMMARY:Davide e Golia alleati: l’innovazione è un gioco per grandi e piccini
DESCRIPTION:26 Giugno ore 12.00 \n\n\n\nIngresso gratuito con prenotazione obbligatoria \n\n\n\n\n\n\n\n  \n\n\n\nKodak\, Blockbuster\, Nokia. Sono solo tre nomi di azienda entrate nella letteratura perché scomparse causa “carenza di innovazione”. Nell’epoca dei social\, degli smartphone e del digitale diffuso per un’azienda innovare è una questione di sopravvivenza. Che riguarda tutti noi\, come lavoratori perché le aziende stanno cambiando il loro modo di operare e come clienti che possono contare su servizi prima impensabili\, come ad esempio la consegna programmata di un pacco. Per fare innovazione le grandi aziende contano anche sulla collaborazione delle nuove imprese innovative\, le startup. Le aziende\, il gigante Golia\, raccontano perché allearsi con Davide\, la piccola impresa\, conviene. E come accade che anche all’interno di una grande azienda possa nascere una start-up. \n\n\n\n  \n\n\n\n\n\n 
URL:https://gardalo.it/evento/davide-e-golia-alleati-linnovazione-e-un-gioco-per-grandi-e-piccini/
LOCATION:Laghetto delle Danze\, Parco del Vittoriale\, Via del Vittoriale\, 12\, Gardone Riviera\, 25083\, Italia
CATEGORIES:Innovazione
ORGANIZER;CN="GardaLo!":MAILTO:info@gardalo.it
END:VEVENT
BEGIN:VEVENT
DTSTART;TZID=Europe/Rome:20220626T120000
DTEND;TZID=Europe/Rome:20220626T120000
DTSTAMP:20260420T214933
CREATED:20220523T080857Z
LAST-MODIFIED:20220531T081601Z
UID:734-1656244800-1656244800@gardalo.it
SUMMARY:Nomi\, cose\, realtà: i linguaggi dell’arte
DESCRIPTION:Laboratorio per ragazzi da 14 a 18 anni \n\n\n\n26 Giugno \n\n\n\nIngresso gratuito con prenotazione obbligatoria \n\n\n\n \n\n\n\nCosa unisce Beethoven\, Caravaggio e la parola “tabù”? I colori che tingono il cielo sono soltanto uno dei tanti incanti della natura o anche uno strumento di vita? Si è liberi di o liberi da? A questi e altri quesiti il laboratorio cercherà di dare una risposta a suon di opere d’arte e brani musicali. Partendo proprio dalla radice\, dall’etimologia di parole del nostro vocabolario apparentemente ordinarie\, si tracceranno affascinanti storie di significato lunghe secoli e intrise di tradizioni culturali differenti e lontane fra loro. E così Claude Debussy\, Frédéric Chopin\, Olivier Messiaen\, Arvo Pärt\, Johann Sebastian Bach\, Michelangelo Buonarroti\, Gian Lorenzo Bernini\, Donatello e Pablo Picasso saranno i compagni di avventura insieme ai quali scoprire le meraviglie nascoste delle arti e\, prima ancora\, della nostra straordinaria lingua. \n\n\n\n  \n\n\n\n** L’incontro è rivolto ai ragazzi e agli adulti accompagnatori.
URL:https://gardalo.it/evento/nomi-cose-realta-2/
LOCATION:Il Vittoriale degli italiani\, Auditorium\, Via del Vittoriale\, 12\, Gardone Riviera\, Italia
ORGANIZER;CN="GardaLo!":MAILTO:info@gardalo.it
END:VEVENT
BEGIN:VEVENT
DTSTART;TZID=Europe/Rome:20220626T110000
DTEND;TZID=Europe/Rome:20220626T130000
DTSTAMP:20260420T214933
CREATED:20220601T084522Z
LAST-MODIFIED:20220601T093656Z
UID:1487-1656241200-1656248400@gardalo.it
SUMMARY:Uno Stradivari al Vittoriale
DESCRIPTION:26 Giugno ore 11.00 \n\n\n\nEvento gratuito con prenotazione obbligatoria \n\n\n\n \n\n\n\n\n\n\n\nDa cinquecento anni Cremona è la capitale mondiale della liuteria\, una tradizione alto artigianale iscritta da Unesco nella lista rappresentativa del Patrimonio Culturale Immateriale dell’Umanità. In città\, tra Sei e Settecento\, visse e lavorò Antonio Stradivari\, il liutaio più famoso al mondo. Realizzò strumenti ad arco e a pizzico ancora oggi insuperati per bellezza e qualità timbriche: sono contesi da musicisti e collezionisti a cifre di diverse decine di milioni di euro. \n\n\n\nLa tradizione liutaria cremonese inizia a metà del Cinquecento\, con Andrea Amati\, ma si rinnova ogni giorno nelle tante botteghe contemporanee. Al Museo del Violino è possibile ripercorrere questa vicenda straordinaria attraverso l’incontro diretto con i grandi Maestri – Stradivari\, Amati\, Guarneri – e i loro capolavori\, da ammirare nelle sale e da ascoltare nell’Auditorium Giovanni Arvedi. \n\n\n\nIl violino Golden Bell è presentato nello Scrigno dei Tesori\, la sala più preziosa del Museo. È una magnifica espressione dei primi anni di lavoro di Antonio Stradivari. In condizioni originali e in ottimo stato di conservazione\, appartenente alla collezione privata Alago Familienstiftung. È temporaneamente esposto nell’ambito del network friends of Stradivari. \n\n\n\nPer il concerto è affidato a Lena Yokoyama\, solista nata Giappone\, ma formatasi a Cremona\, dapprima all’Istituto Musicale Pareggiato Claudio Monteverdi\, quindi ai corsi di alto perfezionamento tenuti da Salvatore Accardo all’Accademia Walter Stauffer. Dal novembre 2013 collabora con la Fondazione Museo del Violino ed è incaricata di suonare in pubbliche audizioni gli strumenti delle Collezioni storiche e contemporanee. \n\n\n\nSvolge intensa attività concertistica come solista o camerista. È membro fondatore del Trio Kanon. Durante la pandemia\, i suoi video dal Torrazzo o dal tetto dell’Ospedale di Cremona\, visti in tutto il mondo\, hanno portato un segno di bellezza e speranza. \n\n\n\n 
URL:https://gardalo.it/evento/uno-stradivari-al-vittoriale/
LOCATION:Il Vittoriale degli italiani\, Auditorium\, Via del Vittoriale\, 12\, Gardone Riviera\, Italia
CATEGORIES:Spettacoli
ORGANIZER;CN="GardaLo!":MAILTO:info@gardalo.it
END:VEVENT
BEGIN:VEVENT
DTSTART;TZID=Europe/Rome:20220626T110000
DTEND;TZID=Europe/Rome:20220626T130000
DTSTAMP:20260420T214933
CREATED:20220523T082243Z
LAST-MODIFIED:20220530T144757Z
UID:728-1656241200-1656248400@gardalo.it
SUMMARY:Arte e Mindfulness come valore
DESCRIPTION:Laboratorio per bambini dai 6 ai 10 anni.  \n\n\n\n26 Giugno \n\n\n\nIngresso gratuito con prenotazione obbligatoria.   \n\n\n\n \n\n\n\nL’iniziativa è volta a trasmettere i valori più profondi della Mindfulness\, attraverso il linguaggio creativo dell’arte.  \n\n\n\nPartiremo dalla comprensione del capolavoro universale “La Danza” di Henri Matisse\, fino ad arrivare all’espressionismo astratto di Jackson Pollock.  \n\n\n\nUn viaggio nel colore\,  in cui i bambini e i più giovani potranno sperimentarsi e sperimentare assieme una metodologia espressiva unica\, dove il movimento si traduce gesto pittorico\, un connubio poetico fra mente e cuore.  \n\n\n\nPronti a danzare insieme a Matisse e Pollock?  \n\n\n\n \n\n\n\n** Il laboratorio è rivolto esclusivamente a bambini dai 6 ai 10 anni. Gli adulti accompagnatori sono invitati ad attendere i bambini alla fine dell’attività. \n\n\n\n\n\n\n\n\n\n 
URL:https://gardalo.it/evento/arte-e-mindfulness-come-valore-3/
LOCATION:Casa Cama\, Parco del Vittoriale\, Via del Vittoriale\, 12\, Gardone Riviera\, 25083\, Italia
ORGANIZER;CN="GardaLo!":MAILTO:info@gardalo.it
END:VEVENT
BEGIN:VEVENT
DTSTART;TZID=Europe/Rome:20220625T190000
DTEND;TZID=Europe/Rome:20220625T210000
DTSTAMP:20260420T214933
CREATED:20220523T081905Z
LAST-MODIFIED:20220601T064115Z
UID:717-1656183600-1656190800@gardalo.it
SUMMARY:Storia
DESCRIPTION:25 Giugno ore 19.00 \n\n\n\nIngresso gratuito con prenotazione obbligatoria \n\n\n\n\n\n\n\n\n\n \n\n\n\nLa Storia\, spesso lasciata in secondo piano dalla Scuola e oggi messa sotto accusa da una inedita cultura “della cancellazione”\, attraverso la conoscenza del passato determina gli orientamenti morali\, politici e civili di un popolo. Della necessità di affrontarla senza manipolazioni né acritiche apologie discutono storici\, filosofi e scrittori.
URL:https://gardalo.it/evento/storia/
LOCATION:Laghetto delle Danze\, Parco del Vittoriale\, Via del Vittoriale\, 12\, Gardone Riviera\, 25083\, Italia
CATEGORIES:Letteratura
ORGANIZER;CN="GardaLo!":MAILTO:info@gardalo.it
END:VEVENT
BEGIN:VEVENT
DTSTART;TZID=Europe/Rome:20220625T180000
DTEND;TZID=Europe/Rome:20220625T190000
DTSTAMP:20260420T214933
CREATED:20220523T080447Z
LAST-MODIFIED:20220526T080617Z
UID:776-1656180000-1656183600@gardalo.it
SUMMARY:La società dell'ansia sociale. Dagli hikikomori agli incel: una generazione di giovani a rischio
DESCRIPTION:25 Giugno \n\n\n\nIngresso gratuito con prenotazione obbligatoria \n\n\n\n\n\n\n\nIl fenomeno degli hikikomori riguarda milioni di giovani nel mondo che decidono di scappare da tutto e da tutti per rifugiarsi nella propria camera da letto e nel mondo online. Si tratta di un problema che tende facilmente a cronicizzarsi e che può portare a una profonda compromissione della propria qualità di vita\, talvolta irreversibile. Eppure l’hikikomori non è altro che uno dei tanti modi in cui i giovani sembrano somatizzare la forte ansia sociale che percepiscono: disturbi alimentari\, astinenza sessuale involontaria\, autolesionismo e polarizzazione delle idee sono solo alcuni dei fenomeni a cui stiamo assistendo e che sono in grande parte causati da dinamiche sociali moderne. Marco Crepaldi ci fornirà una panoramica di quelle che sono le principali sfide psicologiche che i giovani si trovano ad affrontare in questo periodo storico\, partendo proprio dal fenomeno degli hikikomori\, di cui si occupa da anni e per il quale ha anche fondato un’associazione nazionale. \n\n\n\nHikikomori Italia è un progetto che nasce nel 2013 dal blog di Marco Crepaldi. Da quel momento si crea una forte comunità online attorno a questo tema\, composta soprattutto da genitori con figli in isolamento sociale. Così nel 2017 nascono due associazioni strettamente collegate: l’associazione Hikikomori Italia\, composta da professionisti\, in particolare psicologi\, e l’associazione Hikikomori Italia Genitori ONLUS\, a cui partecipano madri e padri di tutta Italia accumunati dal fatto di avere un figlio in isolamento sociale. Attraverso dei gruppi di auto mutuo aiuto\, online e offline\, i genitori possono supportarsi a vicenda ed essere seguiti gratuitamente da uno psicologo volontario. L’obiettivo comune delle due associazioni è quello di sensibilizzare sul fenomeno degli hikikomori e aiutare quante più persone possibili\, sia genitori che giovani. Quest’ultimi in particolare possono ricevere anche un supporto psicologico completamente gratuito\, sia in gruppo che individualmente.
URL:https://gardalo.it/evento/la-societa-dellansia-sociale-dagli-hikikomori-agli-incel-una-generazione-di-giovani-a-rischio/
LOCATION:Nave Puglia\, Parco del Vittoriale\, Via del Vittoriale\, 12\, Gardone Riviera\, 25083\, Italia
ORGANIZER;CN="GardaLo!":MAILTO:info@gardalo.it
END:VEVENT
BEGIN:VEVENT
DTSTART;TZID=Europe/Rome:20220625T150000
DTEND;TZID=Europe/Rome:20220625T160000
DTSTAMP:20260420T214933
CREATED:20220523T082019Z
LAST-MODIFIED:20220601T063947Z
UID:706-1656169200-1656172800@gardalo.it
SUMMARY:Oltre la dad: un salto nella scuola del futuro
DESCRIPTION:25 Giugno ore 15.00 \n\n\n\nIngresso gratuito con prenotazione obbligatoria \n\n\n\n\n\n\n\n\n\nVi ricordate la fatica di imparare a fare la parafrasi de “La pioggia nel pineto”? E le date della prima guerra mondiale? “Ritorno alla scuola del futuro” è un viaggio nel tempo a due direzioni: un laboratorio esperienziale gestito con WeSchool\, piattaforma digitale leader in Italia nell’innovazione della didattica\, fondata da Marco de Rossi nel 2004 a soli 14 anni. Tra esercizi di memoria\, escape room letterarie e role play a tema storico\, in un’ora ricorderemo com’era la scuola che abbiamo vissuto e proveremo a immaginare come sarà quella di domani.
URL:https://gardalo.it/evento/oltre-la-dad-un-salto-nella-scuola-del-futuro/
LOCATION:Il Vittoriale degli italiani\, Auditorium\, Via del Vittoriale\, 12\, Gardone Riviera\, Italia
CATEGORIES:Innovazione
ORGANIZER;CN="GardaLo!":MAILTO:info@gardalo.it
END:VEVENT
BEGIN:VEVENT
DTSTART;TZID=Europe/Rome:20220625T120000
DTEND;TZID=Europe/Rome:20220625T120000
DTSTAMP:20260420T214933
CREATED:20220523T092216Z
LAST-MODIFIED:20220608T085712Z
UID:844-1656158400-1656158400@gardalo.it
SUMMARY:Visita per bambini alla Prioria (dai 6 ai 10 anni)
DESCRIPTION:25 Giugno \n\n\n\n\n\n\nSabato 25 giugno 2022 |  Visite alla Prioria per bambini \n6 anni |  biglietto gratuito  \ndai 7 ai 10 anni  |  biglietto ridotto € 14\,00 \n** Le visite alla Prioria sono esclusive per bambini di età compresa tra i 6 e i 10 anni. Gli adulti accompagnatori sono invitati ad attendere i bambini alla fine della visita in Prioria\, presso la Piazzetta Dalmata. 
URL:https://gardalo.it/evento/speciale-visita-alla-prioria-dedicata-ai-bambini/
LOCATION:Il Vittoriale degli Italiani\, Prioria\, Via del Vittoriale\,12\, Gardone Riviera\, 25083\, Italia
CATEGORIES:Giovani,Giovani - 25 Giugno
ORGANIZER;CN="GardaLo!":MAILTO:info@gardalo.it
END:VEVENT
BEGIN:VEVENT
DTSTART;TZID=Europe/Rome:20220625T110000
DTEND;TZID=Europe/Rome:20220625T235900
DTSTAMP:20260420T214933
CREATED:20220523T080726Z
LAST-MODIFIED:20220624T102517Z
UID:694-1656154800-1656201540@gardalo.it
SUMMARY:Nomi\, cose\, realtà: i linguaggi dell’arte
DESCRIPTION:Laboratorio per bambini da 11 a 13 anni \n\n\n\n25 Giugno \n\n\n\nIngresso gratuito con prenotazione obbligatoria \n\n\n\n \n\n\n\nCosa unisce Beethoven\, Caravaggio e la parola “tabù”? I colori che tingono il cielo sono soltanto uno dei tanti incanti della natura o anche uno strumento di vita? Si è liberi di o liberi da? A questi e altri quesiti il laboratorio cercherà di dare una risposta a suon di opere d’arte e brani musicali. Partendo proprio dalla radice\, dall’etimologia di parole del nostro vocabolario apparentemente ordinarie\, si tracceranno affascinanti storie di significato lunghe secoli e intrise di tradizioni culturali differenti e lontane fra loro. E così Claude Debussy\, Frédéric Chopin\, Olivier Messiaen\, Arvo Pärt\, Johann Sebastian Bach\, Michelangelo Buonarroti\, Gian Lorenzo Bernini\, Donatello e Pablo Picasso saranno i compagni di avventura insieme ai quali scoprire le meraviglie nascoste delle arti e\, prima ancora\, della nostra straordinaria lingua. \n\n\n\n  \n\n\n\n** L’incontro è rivolto ai bambini e agli adulti accompagnatori.
URL:https://gardalo.it/evento/nomi-cose-realta/
LOCATION:Il Vittoriale degli italiani\, Auditorium\, Via del Vittoriale\, 12\, Gardone Riviera\, Italia
ORGANIZER;CN="GardaLo!":MAILTO:info@gardalo.it
END:VEVENT
BEGIN:VEVENT
DTSTART;TZID=Europe/Rome:20220625T110000
DTEND;TZID=Europe/Rome:20220625T130000
DTSTAMP:20260420T214933
CREATED:20220523T082315Z
LAST-MODIFIED:20220530T144838Z
UID:664-1656154800-1656162000@gardalo.it
SUMMARY:Arte e Mindfulness come valore
DESCRIPTION:Laboratorio per bambini dai 6 ai 10 anni \n\n\n\n25 Giugno \n\n\n\nIngresso gratuito con prenotazione obbligatoria \n\n\n\n \n\n\n\nL’iniziativa è volta a trasmettere i valori più profondi della Mindfulness\, attraverso il linguaggio creativo dell’arte.  \n\n\n\nPartiremo dalla comprensione del capolavoro universale “La Danza” di Henri Matisse\, fino ad arrivare all’espressionismo astratto di Jackson Pollock.  \n\n\n\nUn viaggio nel colore\, in cui i bambini e i più giovani potranno sperimentarsi e sperimentare assieme una metodologia espressiva unica\, dove il movimento si traduce gesto pittorico\, un connubio poetico fra mente e cuore.  \n\n\n\nPronti a danzare insieme a Matisse e Pollock? \n\n\n\n \n\n\n\n** Il laboratorio è rivolto esclusivamente a bambini dai 6 ai 10 anni. Gli adulti accompagnatori sono invitati ad attendere i bambini alla fine dell’attività.
URL:https://gardalo.it/evento/arte-e-mindfulness-come-valore-4/
LOCATION:Casa Cama\, Parco del Vittoriale\, Via del Vittoriale\, 12\, Gardone Riviera\, 25083\, Italia
ORGANIZER;CN="GardaLo!":MAILTO:info@gardalo.it
END:VEVENT
BEGIN:VEVENT
DTSTART;TZID=Europe/Rome:20220625T110000
DTEND;TZID=Europe/Rome:20220625T130000
DTSTAMP:20260420T214933
CREATED:20220523T082048Z
LAST-MODIFIED:20220601T060827Z
UID:670-1656154800-1656162000@gardalo.it
SUMMARY:Cuore. La cacciata dal Paradiso Terrestre
DESCRIPTION:DIALOGHI CON  I GENITORI PER (Ri)CONOSCERSI NEL PRORIO RUOLO DI EDUCATORI AMOROSI\, CON E OLTRE LA SCUOLA \n\n\n\n25 Giugno ore 11.00 \n\n\n\nIngresso gratuito con prenotazione obbligatoria \n\n\n\n \n\n\n\nIncontro delle ore 11.00 L’Idea di Infanzia. Come può il bambino afferrare la bontà del mondo nelle attuali condizioni sociali? Come possiamo proteggere dalle nostre paure le forze di speranza insite nei bambini? Che cosa è davvero degno di imitazione\, ossia di esperienza interiore? Osservare senza giudicare: il delicato compito di ogni educatore.Se il bambino imita ciò che è buono allora l’imitazione produrrà quel calore del cuore indispensabile per la crescita. Gesti pieni di senso e parole colme di significato si trasformano\, col tempo\, in impulsi di coraggio con i quali incamminarsi oltre i confini della propria infanzia. \n\n\n\nLa scuola dovrebbe costituire il primo spazio di cultura e vita sociale. I bambini e i ragazzi dovrebbero esplorare la vastità del proprio mondo interiore\, del mondo che li circonda e incontrare una cultura in grado di offrir loro una reale comprensione del mistero dell’esistenza. Come stanno realmente le cose? \n\n\n\n\n\n\n\nIncontro delle ore 15.00Il bambino oltre i nove anni. Il desiderio di solitudine e la necessità di “oltrepassare i limiti”. Il fenomeno dell’aggressività. Autonomia e dipendenze: ostacoli e difficoltà nell’osare passi nuovi. L’ adolescenza è l’età in cui ci si apre al mondo: oggi\, sempre più spesso\, diviene esperienza di solitudine e alienazione.
URL:https://gardalo.it/evento/cuore-la-cacciata-dal-paradiso-terrestre-2/
LOCATION:Casa Cama\, Parco del Vittoriale\, Via del Vittoriale\, 12\, Gardone Riviera\, 25083\, Italia
ORGANIZER;CN="GardaLo!":MAILTO:info@gardalo.it
END:VEVENT
BEGIN:VEVENT
DTSTART;TZID=Europe/Rome:20220624T210000
DTEND;TZID=Europe/Rome:20220624T230000
DTSTAMP:20260420T214933
CREATED:20220510T130913Z
LAST-MODIFIED:20220601T064044Z
UID:644-1656104400-1656111600@gardalo.it
SUMMARY:Scuola
DESCRIPTION:24 Giugno ore 21.00 \n\n\n\nIngresso gratuito con prenotazione obbligatoria \n\n\n\n\n\n\n\n\n\nLo stato di salute di un Paese veramente democratico si misura dalla scuola\, motore di sviluppo della società e insieme garanzia di un futuro migliore per le nuove generazioni. Sulle condizioni\, tra limiti ed eccellenze\, del nostro sistema di istruzione si interrogano insegnanti\, politologi e sociologi.
URL:https://gardalo.it/evento/scuola/
LOCATION:Il Vittoriale degli italiani\, Anfiteatro\, Via del Vittoriale\, 12\, Gardone Riviera\, Italia
CATEGORIES:Letteratura
ORGANIZER;CN="GardaLo!":MAILTO:info@gardalo.it
END:VEVENT
BEGIN:VEVENT
DTSTART;TZID=Europe/Rome:20220624T193000
DTEND;TZID=Europe/Rome:20220624T200000
DTSTAMP:20260420T214933
CREATED:20220523T082320Z
LAST-MODIFIED:20220601T061115Z
UID:591-1656099000-1656100800@gardalo.it
SUMMARY:La storia saremo noi
DESCRIPTION:24 Giugno ore 19.00 \n\n\n\nIngresso gratuito con prenotazione obbligatoria \n\n\n\n\n\n\n\nIn Italia ci sono quasi 15mila startup\, nuovo imprese che propongono soluzioni innovative a piccoli e grandi problemi. Un grande movimento che coinvolge ormai centinaia di miglia di persone. E molti sono giovanissimi. Come si diventa imprenditori innovativi? Come è possibile farlo a 20 anni o poco più? \n\n\n\nQuali motivazioni spingono ad affrontare un’impresa non particolarmente semplice in Italia? Quali caratteristiche bisogna avere? A GardaLo! rispondono i protagonisti.
URL:https://gardalo.it/evento/la-storia-saremo-noi/
LOCATION:Nave Puglia\, Parco del Vittoriale\, Via del Vittoriale\, 12\, Gardone Riviera\, 25083\, Italia
CATEGORIES:Innovazione
ORGANIZER;CN="GardaLo!":MAILTO:info@gardalo.it
END:VEVENT
END:VCALENDAR